BEGIN:VCALENDAR
VERSION:2.0
PRODID:-//Pokładykultury.eu - ECPv5.16.3.1//NONSGML v1.0//EN
CALSCALE:GREGORIAN
METHOD:PUBLISH
X-ORIGINAL-URL:https://pokladykultury.com.pl
X-WR-CALDESC:Wydarzenia dla Pokładykultury.eu
REFRESH-INTERVAL;VALUE=DURATION:PT1H
X-Robots-Tag:noindex
X-PUBLISHED-TTL:PT1H
BEGIN:VTIMEZONE
TZID:Europe/Warsaw
BEGIN:DAYLIGHT
TZOFFSETFROM:+0100
TZOFFSETTO:+0200
TZNAME:CEST
DTSTART:20210328T010000
END:DAYLIGHT
BEGIN:STANDARD
TZOFFSETFROM:+0200
TZOFFSETTO:+0100
TZNAME:CET
DTSTART:20211031T010000
END:STANDARD
END:VTIMEZONE
BEGIN:VEVENT
DTSTART;TZID=Europe/Warsaw:20211206T180000
DTEND;TZID=Europe/Warsaw:20211206T200000
DTSTAMP:20260419T215840
CREATED:20211124T111641Z
LAST-MODIFIED:20211124T111641Z
UID:1856-1638813600-1638820800@pokladykultury.com.pl
SUMMARY:Koncert Mikołajkowy
DESCRIPTION:Filharmonia Zabrzańska zaprasza w poniedziałek\, 6 grudnia o godz. 17.00 na Koncert Mikołajkowy. \nWśród wykonawców wystąpią:\nOrkiestra Symfoniczna Filharmonii Zabrzańskiej\nŚwięty Mikołaj – gość specjalny!\nW roli „Śnieżynki” Dorota Banaś\nSławomir Chrzanowski- dyrygent \nW repertuarze: \nMuzyka filmowa\, Czajkowski – „Dziadek do orzechów”- fragmenty\, muzyka świąteczna
URL:https://pokladykultury.com.pl/event/koncert-mikolajkowy/
LOCATION:Filharmonia Zabrzańska\, Park Hutniczy 7\, Zabrze\, śląskie\, 41-800\, Poland
ATTACH;FMTTYPE=image/jpeg:https://pokladykultury.com.pl/wp-content/uploads/2021/07/Filharmonia.jpg
END:VEVENT
END:VCALENDAR