BEGIN:VCALENDAR
VERSION:2.0
PRODID:-//Pokładykultury.eu - ECPv5.16.3.1//NONSGML v1.0//EN
CALSCALE:GREGORIAN
METHOD:PUBLISH
X-WR-CALNAME:Pokładykultury.eu
X-ORIGINAL-URL:https://pokladykultury.com.pl
X-WR-CALDESC:Wydarzenia dla Pokładykultury.eu
REFRESH-INTERVAL;VALUE=DURATION:PT1H
X-Robots-Tag:noindex
X-PUBLISHED-TTL:PT1H
BEGIN:VTIMEZONE
TZID:Europe/Warsaw
BEGIN:DAYLIGHT
TZOFFSETFROM:+0100
TZOFFSETTO:+0200
TZNAME:CEST
DTSTART:20220327T010000
END:DAYLIGHT
BEGIN:STANDARD
TZOFFSETFROM:+0200
TZOFFSETTO:+0100
TZNAME:CET
DTSTART:20221030T010000
END:STANDARD
END:VTIMEZONE
BEGIN:VEVENT
DTSTART;TZID=Europe/Warsaw:20220530T193000
DTEND;TZID=Europe/Warsaw:20220530T204500
DTSTAMP:20260420T091841
CREATED:20220505T053044Z
LAST-MODIFIED:20220505T053044Z
UID:3416-1653939000-1653943500@pokladykultury.com.pl
SUMMARY:Magiczny koncert - Bajki Świata
DESCRIPTION:Kino Roma zaprasza na niezwykłą muzyczną podróż w świat ulubionych bajek\, podczas której bohaterowie zejdą z ekranu\, by podzielić się najpiękniejszymi i najbardziej znanymi utworami. \n \nPoczynając od Stumilowego Lasu\, który zwiedzimy w towarzystwie Kubusia Puchatka\, wpłyniemy na wielkie wody południowego Pacyfiku pod przywództwem legendarnej Vaiany\, by przez chwilę zanurkować z Małą Syrenką w niezmierzonych\, morskich głębinach. Następnie wskakując na latający dywan wraz z Aladynem dolecimy aż do indiańskiej wioski Pocahontas. Nagle Zaplątani na lianie z Tarzanem wylądujemy na gorącej Sawannie\, gdzie panuje słynny Król Lew\, by potem ochłodzić się w mroźniej Krainie Lodu…\n \n\n\nWidowisko pełne kolorowych strojów\, baniek mydlanych\, śniegu\, dymu\, śmieszne dialogi\, wspólna zabawa\, namalują uśmiechy na twarzach młodych widzów. Widowisko przeznaczone dla dzieci i młodzieży.\n \nKoncert ma na celu pobudzić i rozwijać wyobraźnię oraz ciekawość poznawczą dziecka oraz zachęcić do aktywnego uczestniczenia w życiu kulturalnym m.in poprzez:\n\n\n\nUwrażliwianie na przeżycia estetyczne\,\nDostarczanie\, za pomocą fragmentów bajek\, nowej wiedzy o świecie i o innych ludziach\, co pomaga zrozumieć ich postawy i zachowania\,\nUczenie przestrzegania zakazów i bycia dobrym – w bajkach świat jest sprawiedliwy i rządzony według jednoznacznych reguł\, szlachetność jest nagradzana\,\nUwrażliwianie na odpowiednie zachowania społeczne poprzez obserwacje zachowań bohaterów bajek\,\nUtożsamianie się z ulubionymi bohaterami bajek\,\nOdreagowywanie napięć – relaks\, odprężenie\, zabawa\,\nRozwijanie wrażliwości słuchowej i umiejętności odbierania muzyki\,\nKształcenie zainteresowań muzycznych\,\nOgólne kształtowanie i rozwijanie słuchu muzycznego\,\nRozbudzanie zamiłowań do indywidualnego i zbiorowego muzykowania\,\nWdrażanie do aktywności artystycznej kulturalnego wykorzystania wolnego czasu.\n\n\n\nDzieci do lat 2 wchodzą za darmo\, miejsce na kolanach opiekuna.\n\n\nCzas trwania ok. 75 minut\n\n\n \nbiletyna: https://bilety.io/ayCaX\nkup bilecik: https://www.kupbilecik.pl/…/Magiczny+Koncert+-+Bajki…/
URL:https://pokladykultury.com.pl/event/magiczny-koncert-bajki-swiata/
LOCATION:Kino Roma\, ul. Z. Padlewskiego 4\, Zabrze\, śląskie\, 41-800\, Poland
ATTACH;FMTTYPE=image/jpeg:https://pokladykultury.com.pl/wp-content/uploads/2022/05/Koncert-bajki.jpg
END:VEVENT
END:VCALENDAR