BEGIN:VCALENDAR
VERSION:2.0
PRODID:-//Pokładykultury.eu - ECPv5.16.3.1//NONSGML v1.0//EN
CALSCALE:GREGORIAN
METHOD:PUBLISH
X-WR-CALNAME:Pokładykultury.eu
X-ORIGINAL-URL:https://pokladykultury.com.pl
X-WR-CALDESC:Wydarzenia dla Pokładykultury.eu
REFRESH-INTERVAL;VALUE=DURATION:PT1H
X-Robots-Tag:noindex
X-PUBLISHED-TTL:PT1H
BEGIN:VTIMEZONE
TZID:Europe/Warsaw
BEGIN:DAYLIGHT
TZOFFSETFROM:+0100
TZOFFSETTO:+0200
TZNAME:CEST
DTSTART:20220327T010000
END:DAYLIGHT
BEGIN:STANDARD
TZOFFSETFROM:+0200
TZOFFSETTO:+0100
TZNAME:CET
DTSTART:20221030T010000
END:STANDARD
END:VTIMEZONE
BEGIN:VEVENT
DTSTART;TZID=Europe/Warsaw:20220515T170000
DTEND;TZID=Europe/Warsaw:20220515T210000
DTSTAMP:20260422T043129
CREATED:20220502T060344Z
LAST-MODIFIED:20220502T060344Z
UID:3357-1652634000-1652648400@pokladykultury.com.pl
SUMMARY:Holi Święto Kolorów w Zabrzu
DESCRIPTION:Wracamy w sezonie 2022 z dobrymi wiadomościami. W końcu imprezy Holi bez limitów covidowych. \nOficjalnie informujemy – Holi Święto Kolorów odbędzie się na Kąpielisku Leśnym już 15 maja 2022. Pora zapisać sobie tę datę w kalendarzach. Ten dzień na pewno długo pozostanie w Waszych głowach.\n \n𝙎𝙥𝙧𝙖𝙬𝙙𝙯́ 𝙘𝙤 𝙥𝙧𝙯𝙮𝙜𝙤𝙩𝙤𝙬𝙖𝙡𝙞𝙨́𝙢𝙮:\n Przygotowaliśmy dla Was aż 9 kolorów proszków\n Nasi DJe zagrają tak\, abyście nawet na moment nie przestali się bawić\n Kolorowa wata cukrowa\n Kolorowe okulary\n Bazooki CO2\n Strefa foodtruck\n \nDaj się ponieść kolorowemu szaleństwu! Przyjdź ze swoimi znajomymi i wspólnie pokolorujcie się nawzajem w rytm najlepszej muzyki granej przez naszych DJów!\n \n𝗖𝘇𝗮𝘀 𝗻𝗮 𝗽𝗼𝗱𝘀𝘂𝗺𝗼𝘄𝗮𝗻𝗶𝗲!\n 15 maja 2022\n 15.00 – 19.00\n Kąpielisko Leśne\n bezpłatny wstęp \n \nUWAGA! Ze względów bezpieczeństwa na teren imprezy obowiązuje zakaz wnoszenia własnych proszków.
URL:https://pokladykultury.com.pl/event/holi-swieto-kolorow-w-zabrzu/
LOCATION:Kąpielisko Leśne\, ul. Srebrna 10\, Zabrze\, śląskie\, 41-800\, Poland
ATTACH;FMTTYPE=image/jpeg:https://pokladykultury.com.pl/wp-content/uploads/2022/05/Holi.jpg
END:VEVENT
BEGIN:VEVENT
DTSTART;VALUE=DATE:20220526
DTEND;VALUE=DATE:20220531
DTSTAMP:20260422T043129
CREATED:20220419T075444Z
LAST-MODIFIED:20220523T103722Z
UID:3320-1653530400-1653875999@pokladykultury.com.pl
SUMMARY:MAY TANGO FESTIVAL 2022
DESCRIPTION:Po raz kolejny zapraszamy na MAY TANGO FESTIVAL 2022. Tegoroczna\, czwarta edycja odbędzie się w dniach 26 – 29 maja w Zabrzu.\n \nRejestracja otwarta: https://www.maytangofestival.eu/formularz-rejestracyjny/\n \nMAESTROS:\nAntonella Terrazas & Ivan Terrazas (Argentyna)\nLorena González Cattáneo & Gastón Camejo (Urugwaj)\nMüge Üner & Selçuk Atalay (Turcja)\nARTYŚCI GOŚCINNI:\nMagdalena Myszka & Rava Azeredo da Silveira\n \nProgram i tematy warsztatów: https://www.maytangofestival.eu/warsztaty/\n \nProgram milong: https://www.maytangofestival.eu/milongi/\n \nSpektakl: „Bandonegro i mistrzowie tanga” https://www.maytangofestival.eu/bandonegro-i-mistrzowie…/\n \nKoszt: https://www.maytangofestival.eu/ceny/\n \nDJ-e:\nKarolina Topór (Katowice\, Polska)\nSantiago Buonomo (Kraków / Urugwaj)\nAnna Pietruszewska (Bielsko-Biała\, Polska)\nTatiana TatiVany (Kijów\, Ukraina)\nRoberto La Barbera (Zabrze / Włochy)\nEzequiel Mendoza (Buenos Aires\, Argentyna)\n \nDołączcie do nas!
URL:https://pokladykultury.com.pl/event/may-tangfo-festival-2022/
LOCATION:Zabrze\, Zabrze\, śląskie\, 41-800\, Poland
ATTACH;FMTTYPE=image/jpeg:https://pokladykultury.com.pl/wp-content/uploads/2022/04/Tango-Festival.jpg
END:VEVENT
END:VCALENDAR