BEGIN:VCALENDAR
VERSION:2.0
PRODID:-//Pokładykultury.eu - ECPv5.16.3.1//NONSGML v1.0//EN
CALSCALE:GREGORIAN
METHOD:PUBLISH
X-ORIGINAL-URL:https://pokladykultury.com.pl
X-WR-CALDESC:Wydarzenia dla Pokładykultury.eu
REFRESH-INTERVAL;VALUE=DURATION:PT1H
X-Robots-Tag:noindex
X-PUBLISHED-TTL:PT1H
BEGIN:VTIMEZONE
TZID:Europe/Warsaw
BEGIN:DAYLIGHT
TZOFFSETFROM:+0100
TZOFFSETTO:+0200
TZNAME:CEST
DTSTART:20220327T010000
END:DAYLIGHT
BEGIN:STANDARD
TZOFFSETFROM:+0200
TZOFFSETTO:+0100
TZNAME:CET
DTSTART:20221030T010000
END:STANDARD
END:VTIMEZONE
BEGIN:VEVENT
DTSTART;TZID=Europe/Warsaw:20220813T190000
DTEND;TZID=Europe/Warsaw:20220813T220000
DTSTAMP:20260420T150523
CREATED:20220704T082614Z
LAST-MODIFIED:20220704T082614Z
UID:4114-1660417200-1660428000@pokladykultury.com.pl
SUMMARY:ZABRZE SUMMER FESTIVAL 2022 – Kamil Bednarek
DESCRIPTION:Zapraszamy na kolejny koncert organizowany w ramach Zabrze Summer Festival. \n13 sierpnia w klimacie muzyki reggae zaśpiewa Kamil Bednarek\, finalista popularnego show TVN Mam talent! Jego debiutancki album studyjny pt. Szanuj\, który nagrał z zespołem Star Guard Muffin\, trafił na szczyt listy bestsellerów płytowych OLiS oraz zdobył status multiplatynowej. W 2012 roku zwyciężył w programie TVP2 Bitwa na głosy\, w którym objął funkcję przewodniczącego szesnastoosobowej grupy wokalistów z Brzegu. Jest autorem przebojów\, min. „Cisza” i „Chodź ucieknijmy…”\, i „Chwile jak te”.
URL:https://pokladykultury.com.pl/event/zabrze-summer-festival-2022-kamil-bednarek/
LOCATION:parking przy CH Platan\, Pl. Teatralny 12\, Zabrze\, śląskie\, 41-800\, Poland
ATTACH;FMTTYPE=image/png:https://pokladykultury.com.pl/wp-content/uploads/2022/07/ZSF-Bednarek.png
END:VEVENT
BEGIN:VEVENT
DTSTART;TZID=Europe/Warsaw:20220827T190000
DTEND;TZID=Europe/Warsaw:20220827T220000
DTSTAMP:20260420T150523
CREATED:20220704T083102Z
LAST-MODIFIED:20220704T083102Z
UID:4117-1661626800-1661637600@pokladykultury.com.pl
SUMMARY:ZABRZE SUMMER FESTIVAL 2022 – DJ Hazel i Bueno Clinic
DESCRIPTION:Finałowy koncert Zabrze Summer Festival połączony z zakończeniem wakacji odbędzie się 27 sierpnia\, a występy zostaną wzbogacone pokazami laserowymi. Gwiazdami wieczoru będą Dj Hazel i Bueno Clinic. \nPierwszy z nich to polski DJ i producent muzyczny. Wchodzi w skład Pioneer DJ’s Team – grupy osób prezentującej i testującej sprzęt tej renomowanej marki. W 2001 wystartował w Mistrzostwach Europy DJ-ów w Niemczech i zdobył tytuł Wicemistrza Europy. \nBueno Clinic to natomiast jeden z czołowych artystów w branży klubowej w Polsce znany z znakomitego kontaktu z publiką. Jako jedyny Polak ma na swoim koncie występy w Korei Południowej na największych festiwalach muzycznych jak World Electronica Carnival u boku takich gwiazd jak Benny Benassi\, Armand van Helden\, Far East Movement\, Yolanda Be Cool\, Cazzette oraz Electrodash Festival jako headliner imprezy w sercu Seulu. W 2015 roku singlem “I love sex with my ex” przy współpracy z duetem DNF & VNALOGIC zdobył najwyższe miejsce podium w notowaniu GORĄCA 20 w ESKA TV.
URL:https://pokladykultury.com.pl/event/zabrze-summer-festival-2022-dj-hazel-i-bueno-clinic/
LOCATION:parking przy CH Platan\, Pl. Teatralny 12\, Zabrze\, śląskie\, 41-800\, Poland
ATTACH;FMTTYPE=image/png:https://pokladykultury.com.pl/wp-content/uploads/2022/07/ZSF-DJ-Hazel.png
END:VEVENT
END:VCALENDAR