BEGIN:VCALENDAR
VERSION:2.0
PRODID:-//Pokładykultury.eu - ECPv5.16.3.1//NONSGML v1.0//EN
CALSCALE:GREGORIAN
METHOD:PUBLISH
X-WR-CALNAME:Pokładykultury.eu
X-ORIGINAL-URL:https://pokladykultury.com.pl
X-WR-CALDESC:Wydarzenia dla Pokładykultury.eu
REFRESH-INTERVAL;VALUE=DURATION:PT1H
X-Robots-Tag:noindex
X-PUBLISHED-TTL:PT1H
BEGIN:VTIMEZONE
TZID:Europe/Warsaw
BEGIN:DAYLIGHT
TZOFFSETFROM:+0100
TZOFFSETTO:+0200
TZNAME:CEST
DTSTART:20250330T010000
END:DAYLIGHT
BEGIN:STANDARD
TZOFFSETFROM:+0200
TZOFFSETTO:+0100
TZNAME:CET
DTSTART:20251026T010000
END:STANDARD
END:VTIMEZONE
BEGIN:VEVENT
DTSTART;TZID=Europe/Warsaw:20250607T120000
DTEND;TZID=Europe/Warsaw:20250607T160000
DTSTAMP:20260424T110813
CREATED:20250526T072540Z
LAST-MODIFIED:20250526T072540Z
UID:15179-1749297600-1749312000@pokladykultury.com.pl
SUMMARY:Osiedle Borsiga - osiedla robotnicze w obiektywie
DESCRIPTION: Zróbmy sobie spacer… z aparatem!\nJuż 7 czerwca ruszamy w fotograficzną podróż po jednym z najbardziej klimatycznych miejsc – osiedlu Borsiga. Przewodnikiem tej wyprawy będzie nie kto inny\, jak Arkadiusz Gola – mistrz kadru\, łowca światła i specjalista od „o! to będzie dobre zdjęcie!”.\n \nZapisy trwają. Można się zgłaszać wysyłając maila pod adres: warsztaty@biblioteka.zabrze.pl. (Na każdego maila odpisujemy – odpowiedzi mogą trafić do SPAM-u – warto tam sprawdzić)\nNie musisz mieć lustrzanki za milion monet – wystarczy ciekawość\, coś do pstrykania i wygodne buty (serio\, osiedle Borsiga ma swoje zakamarki.\n \nNa uczestników spaceru czekają praktyczne wskazówki\, dobra atmosfera i masa inspiracji. I kto wie – może Twoje zdjęcie trafi na jakąś wystawę? \n \nOsiedle Borsiga7 czerwca 2025\,\n10.00\n \nZabierz aparat\, dobry humor i wpadnij – będzie kreatywnie\, klimatycznie i totalnie poza kadrem codzienności!
URL:https://pokladykultury.com.pl/event/osiedle-borsiga-osiedla-robotnicze-w-obiektywie/
LOCATION:Osiedle Borsiga – Kolonia robotnicza Borsigwerke\, ul. Bytomska\, Zabrze Biskupice\, śląskie\, Poland
ATTACH;FMTTYPE=image/jpeg:https://pokladykultury.com.pl/wp-content/uploads/2025/05/Osiedla-robotnicze-w-obiektywie.jpg
END:VEVENT
END:VCALENDAR