BEGIN:VCALENDAR
VERSION:2.0
PRODID:-//Pokładykultury.eu - ECPv5.16.3.1//NONSGML v1.0//EN
CALSCALE:GREGORIAN
METHOD:PUBLISH
X-WR-CALNAME:Pokładykultury.eu
X-ORIGINAL-URL:https://pokladykultury.com.pl
X-WR-CALDESC:Wydarzenia dla Pokładykultury.eu
REFRESH-INTERVAL;VALUE=DURATION:PT1H
X-Robots-Tag:noindex
X-PUBLISHED-TTL:PT1H
BEGIN:VTIMEZONE
TZID:Europe/Warsaw
BEGIN:DAYLIGHT
TZOFFSETFROM:+0100
TZOFFSETTO:+0200
TZNAME:CEST
DTSTART:20220327T010000
END:DAYLIGHT
BEGIN:STANDARD
TZOFFSETFROM:+0200
TZOFFSETTO:+0100
TZNAME:CET
DTSTART:20221030T010000
END:STANDARD
END:VTIMEZONE
BEGIN:VEVENT
DTSTART;TZID=Europe/Warsaw:20221029T220000
DTEND;TZID=Europe/Warsaw:20221030T040000
DTSTAMP:20260419T175403
CREATED:20221017T050636Z
LAST-MODIFIED:20221017T051157Z
UID:4964-1667080800-1667102400@pokladykultury.com.pl
SUMMARY:Horror Party 2022
DESCRIPTION:Dziwne odgłosy… Tajemnicze trzęsienia… Zżera WAS ciekawość i paraliżuje strach równocześnie? \nCo skrywają podziemia kopalni? Jakie dziwy spotkacie 320 metrów pod ziemią? Odważcie się i zjedźcie górniczą szolą na najbardziej odjechaną imprezą tematyczną w tej części Europy! \nKopalnia Guido zaprasza na Horror Party 2022. \n\n \nKiedy: 29 października 2022\nGdzie: Kopalnia Guido\, poziom 320 metrów\, ul. 3 Maja 93\, Zabrze\nZjazdy na poziom 320: od godz. 19.00\nStart: godzina 20.00.\nBilety dostępne na stronie: https://podziemnaprzygoda.pl/shop?type=EVENT.\n 
URL:https://pokladykultury.com.pl/event/horror-party-2022/
LOCATION:Kopalnia Guido\, ul. 3 Maja 93\, Zabrze\, śląskie\, 41-800\, Poland
ATTACH;FMTTYPE=image/jpeg:https://pokladykultury.com.pl/wp-content/uploads/2022/10/Horror-Party.jpg
END:VEVENT
END:VCALENDAR