BEGIN:VCALENDAR
VERSION:2.0
PRODID:-//Pokładykultury.eu - ECPv5.16.3.1//NONSGML v1.0//EN
CALSCALE:GREGORIAN
METHOD:PUBLISH
X-WR-CALNAME:Pokładykultury.eu
X-ORIGINAL-URL:https://pokladykultury.com.pl
X-WR-CALDESC:Wydarzenia dla Pokładykultury.eu
REFRESH-INTERVAL;VALUE=DURATION:PT1H
X-Robots-Tag:noindex
X-PUBLISHED-TTL:PT1H
BEGIN:VTIMEZONE
TZID:Europe/Warsaw
BEGIN:DAYLIGHT
TZOFFSETFROM:+0100
TZOFFSETTO:+0200
TZNAME:CEST
DTSTART:20240331T010000
END:DAYLIGHT
BEGIN:STANDARD
TZOFFSETFROM:+0200
TZOFFSETTO:+0100
TZNAME:CET
DTSTART:20241027T010000
END:STANDARD
END:VTIMEZONE
BEGIN:VEVENT
DTSTART;TZID=Europe/Warsaw:20240310T110000
DTEND;TZID=Europe/Warsaw:20240310T120000
DTSTAMP:20260422T175914
CREATED:20240223T115641Z
LAST-MODIFIED:20240223T115641Z
UID:10282-1710068400-1710072000@pokladykultury.com.pl
SUMMARY:Msza święta w podziemnej kaplicy Kopalni Guido
DESCRIPTION:Kopalnia Guido zaprasza wszystkich chętnych\, którzy pragną doświadczyć wyjątkowego przeżycia mszy świętej 170 metrów pod ziemią. W KAPLICI ŚWIĘTEJ BARBARY – patronki górników\, odprawiane są msze św. przy różnych ważnych okazjach\, a także na życzenie grup odwiedzających kopalnię. \nNajbliższa MSZA ŚW. odprawiona zostanie w niedzielę\, 10 marca 2024 o godz. 10:00\, \nInformacje dodatkowe: \nRezerwacja miejsca pod nr. tel. 32 271 40 77.\nZjazd na poziom 170 przed mszą św. o godz. 09.45.\nOpłata za zjazd na poziom 170 m – 10\,00 zł.
URL:https://pokladykultury.com.pl/event/msza-swieta-w-podziemnej-kaplicy-kopalni-guido-8/
LOCATION:Kaplica św. Barbary na poz. 170 w Kopalni Guido\, ul. 3 Maja 93\, Zabrze\, śląskie\, 41-800\, Poland
ATTACH;FMTTYPE=image/png:https://pokladykultury.com.pl/wp-content/uploads/2024/02/msza-2024-2_m.png
END:VEVENT
BEGIN:VEVENT
DTSTART;TZID=Europe/Warsaw:20240312T200000
DTEND;TZID=Europe/Warsaw:20240312T230000
DTSTAMP:20260422T175914
CREATED:20240305T125944Z
LAST-MODIFIED:20240305T125944Z
UID:10390-1710273600-1710284400@pokladykultury.com.pl
SUMMARY:BEKSIŃSCY - rzeźba i muzyka
DESCRIPTION:Politechnika Śląska\, Miasto Zabrze oraz Muzeum Górnictwa Węglowego w Zabrzu zapraszają na podróż w głąb muzycznego świata Tomasza Beksińskiego połączoną ze zwiedzaniem wystawy rzeźb Zdzisława Beksińskiego.\nW tej wyjątkowej podróży towarzyszyć nam będzie muzyka odtwarzana z płyt gramofonowych. Spotkanie\, które odbędzie się w Kopalni Guido\, 320 metrów pod ziemią\, poprowadzi Bogusław Ziębowicz – animator muzycznej kultury winylowej na Śląsku i nie tylko.\n \nZdzisław i Tomasz Beksińscy – ojciec i syn.\nZdzisław – inżynier\, architekt\, malarz\, rzeźbiarz\, fotograf\, rysownik artysta fantastyczny.\nTomasz – dziennikarz i popularyzator muzyczny\, prezenter radiowy\, tłumacz języka angielskiego.\nCo ich łączy oprócz więzów krwi? Talent\, nietuzinkowe podejście do otaczającego świata i miłość do muzyki. Zdzisław tworząc swoją sztukę słuchał muzyki i wraz z synem Tomaszem kolekcjonował płyty gramofonowe z muzyką świata zachodniego\, która była w komunistycznej Polsce trudno dostępna. Tomasz z biegiem lat wraz z rozrostem kolekcji stał się muzycznym guru i odkrywał swój muzyczny świat realizując audycje radiowe w Polskim Radio.\nNa spotkaniu w kopalni Guido posłuchamy muzyki Tomasza Beksińskiego. Przeniesiemy się do lat osiemdziesiątych XX wieku wraz z płytami gramofonowymi z tamtego okresu odtwarzanych na gramofonie i opowieściami o Beksińskich.\n \nA oprócz tego zwiedzimy fenomenalną wystawę rzeźb Zdzisława Beksińskiego\, w której światło miesza się z cieniem.\n \nSpotkanie organizowane jest w ramach projektu „Nauka z kulturą” realizowanego przez Centrum Kultury Studenckiej MROWISKO Politechniki Śląskiej.\n \nWSTĘP 10 zł. PŁATNE W KASIE NA MIEJSCU.\n/Bilet pokrywa koszt zjazdu do Kopalni/\n\nKonieczna wcześniejsza rezerwacja miejsc pod nr. tel.: 32 37 33 520.\n \nW trakcie wydarzenia będzie możliwość skorzystania z oferty gastronomicznej Pubu Kopalni Guido\, najgłębiej położonego pubu w Europie!\n \nProsimy o wcześniejsze przybycie. Zjazdy na poziom 320 będą realizowane od godziny 18:00.\n \nOrganizatorzy i Współorganizatorzy:\n Miasto Zabrze\n Politechnika Śląska\n Muzeum Górnictwa Węglowego w Zabrzu\n Miejski Ośrodek Kultury w Zabrzu\n Centrum Kultury Studenckiej MROWISKO Politechniki Śląskiej\n VINYLHOUSE\n Dom Muzyki i Tańca w Zabrzu\n Teatr Nowy w Zabrzu\n Filharmonia Zabrzańska
URL:https://pokladykultury.com.pl/event/beksinscy-rzezba-i-muzyka/
LOCATION:Kopalnia Guido\, ul. 3 Maja 93\, Zabrze\, śląskie\, 41-800\, Poland
ATTACH;FMTTYPE=image/jpeg:https://pokladykultury.com.pl/wp-content/uploads/2024/03/Beksinscy-scaled.jpg
END:VEVENT
BEGIN:VEVENT
DTSTART;TZID=Europe/Warsaw:20240313T210000
DTEND;TZID=Europe/Warsaw:20240313T230000
DTSTAMP:20260422T175914
CREATED:20240313T071614Z
LAST-MODIFIED:20240313T071614Z
UID:10541-1710363600-1710370800@pokladykultury.com.pl
SUMMARY:26. Bielska Zadymka Jazzowa
DESCRIPTION:Festiwal muzyki jazzowej odbywający się w Bielsku-Białej i Katowicach organizowany jest przez Stowarzyszenie Sztuka Teatr. Festiwal gromadzi elitę twórców światowego i polskiego jazzu. Koncerty odbywają się we wnętrzach Teatru Polskiego w Bielsku-Białej\, Kopalni Guido\, w bielskich klubach Klimat i Metrum\, w Sali Koncertowej ZPSM oraz w schronisku na szczycie Szyndzielni (1026 m n.p.m.). Od 2015 r. finałowe koncerty Zadymki organizowane są w Sali Koncertowej Narodowej Orkiestry Symfonicznej Polskiego Radia w Katowicach. \nSiema Ziemia – Elektroakustyczny kwartet czerpiący energię z kolektywnej improwizacji. Muzyka Siema Ziemia swobodnie czerpie z gatunków o elektronicznych korzeniach takich jak breakbeat\, techno\, footwork/juke łącząc je z jazzową improwizacją. \nUtwory Siema Ziemia były prezentowane w takich stacjach radiowych jak BBC 6\, Worldwide.fm\, Narr Radio\, Polskie Radio Dwójka\, Polskie Radio Czwórka\, Radio Jazz.fm\, Paranoise Radio\, Radio Alhara\, Melodic Distraction [ID miesiąca]\, czy na oficjalnych playlistach Spotify: State of Jazz\, 21st Century Jazz\, The New Vanguard of Polish Jazz\, Alternatywna Polska\, Fresh Finds wśród takich artystów jak Kamasi Washington czy Comet is Coming. \nWystępowali między innymi na London Jazz Festival\, Warsaw Summer Jazz Days\, Soundrive Festival\, Amsterdam Dance Event\, Jazz Jamboree a także w takich miejscach jak NFM\, NOSPR\, Jassmine\, Le Periscope (FR) czy Bimhuis (NL). \nSkład zespołu:\nKacper Krupa – sax\, synths\nWuja HZG – bass\, moog\nFryderyk Szulgit – guitar\, synth\nKonieczny – drums\, synths \nNa miejscu znajduje się w pełni wyposażony bar\, gdzie można skosztować naszego lokalnego piwa Guido\, zjeść czarny chleb ze smalcem oraz zamówić ciepły posiłek\, kawę lub herbatę. \nMiejsca stojące i siedzące nienumerowane. \nWstęp: +6\nIlość osób: max. 380 \nInformacje dodatkowe:\nData: 13.03.2024\nMiejsce: Kopalnia Guido w Zabrzu\nCena biletu: 120 zł \nZjazdy od 18:30\nStart wydarzenia o 20:00\nKoniec wydarzenia o 22:00
URL:https://pokladykultury.com.pl/event/26-bielska-zadymka-jazzowa/
LOCATION:Kopalnia Guido\, ul. 3 Maja 93\, Zabrze\, śląskie\, 41-800\, Poland
ATTACH;FMTTYPE=image/png:https://pokladykultury.com.pl/wp-content/uploads/2024/03/bielska_zadymka_fa66090b6e.png
END:VEVENT
BEGIN:VEVENT
DTSTART;TZID=Europe/Warsaw:20240322T180000
DTEND;TZID=Europe/Warsaw:20240322T193000
DTSTAMP:20260422T175914
CREATED:20240223T115903Z
LAST-MODIFIED:20240223T115903Z
UID:10285-1711130400-1711135800@pokladykultury.com.pl
SUMMARY:Droga Krzyżowa w podziemiach Kopalni Guido
DESCRIPTION:W piątek\, 22 marca o godz. 17.00 w podziemiach Kopalni Guido odbędzie się Droga Krzyżowa. Rozważania w drodze od podszybia do kaplicy św. Barbary\, poprowadzi ks. dr Stanisław Puchała\, kapelan kaplicy. Drogę Krzyżową zakończy msza święta w kaplicy św. Barbary. \n  \nInformacje dodatkowe:\nKiedy: piątek\, 22 marca 2024 r.\nGdzie: Kopalnia Guido\, poziom 170 m\, ul. 3 Maja 93\, Zabrze\,\nGodz. 17.00\,\nZjazdy na poziom 170 m: od godz. 16.30\,\nOpłata za zjazd na poziom 170 – 10 zł. \nUwaga! Ze względu na ograniczoną liczbę uczestników konieczna jest wcześniejsza rezerwacja pod nr. 32 271 40 77.
URL:https://pokladykultury.com.pl/event/droga-krzyzowa-w-podziemiach-kopalni-guido-3/
LOCATION:Kaplica św. Barbary na poz. 170 w Kopalni Guido\, ul. 3 Maja 93\, Zabrze\, śląskie\, 41-800\, Poland
ATTACH;FMTTYPE=image/png:https://pokladykultury.com.pl/wp-content/uploads/2024/02/droga-krzyzowa-2024-1_m.png
END:VEVENT
END:VCALENDAR