BEGIN:VCALENDAR
VERSION:2.0
PRODID:-//Pokładykultury.eu - ECPv5.16.3.1//NONSGML v1.0//EN
CALSCALE:GREGORIAN
METHOD:PUBLISH
X-WR-CALNAME:Pokładykultury.eu
X-ORIGINAL-URL:https://pokladykultury.com.pl
X-WR-CALDESC:Wydarzenia dla Pokładykultury.eu
REFRESH-INTERVAL;VALUE=DURATION:PT1H
X-Robots-Tag:noindex
X-PUBLISHED-TTL:PT1H
BEGIN:VTIMEZONE
TZID:Europe/Warsaw
BEGIN:DAYLIGHT
TZOFFSETFROM:+0100
TZOFFSETTO:+0200
TZNAME:CEST
DTSTART:20230326T010000
END:DAYLIGHT
BEGIN:STANDARD
TZOFFSETFROM:+0200
TZOFFSETTO:+0100
TZNAME:CET
DTSTART:20231029T010000
END:STANDARD
END:VTIMEZONE
BEGIN:VEVENT
DTSTART;TZID=Europe/Warsaw:20231105T150000
DTEND;TZID=Europe/Warsaw:20231105T160000
DTSTAMP:20260419T161658
CREATED:20230808T042230Z
LAST-MODIFIED:20230808T042513Z
UID:8226-1699196400-1699200000@pokladykultury.com.pl
SUMMARY:SPOKO LOKO - koncert dla dzieci
DESCRIPTION:Zespół dla dzieci Spoko Loko z przyjemnością ogłasza swoje kolejne koncerty\, które odbędą się 5 listopada! To wydarzenie to doskonała okazja dla dzieci i ich rodziców\, aby razem spędzić niezapomniany czas w rytmie wspaniałej muzyki. \nSpoko Loko to popularny zespół dla dzieci\, który zdobył serca małych melomanów swoimi zabawnymi i wesołymi piosenkami (m.in. Ciała Kształt czy Tańce Połamańce). Ich koncerty to wyjątkowe show\, które łączą świetną muzykę z interaktywnymi elementami\, zachęcającymi do śpiewania i tańczenia. Dzieci będą miały okazję poznać na żywo członków zespołu\, którzy poprowadzą je w magiczną podróż przez świat dźwięków i rytmów.  \nZespół przywitał nowego wokalistę – Mateusza\, który w czapeczce ze śmigiełkiem tańczy w rytm piosenek\, dostarczając dzieciom jeszcze więcej radości i energii podczas występu. \nNie przegapcie tego wspaniałego wydarzenia muzycznego dla dzieci! Dołączcie do nas w Miejskim Ośrodku Kultury w Zabrzu  i zanurzcie się w niezapomnianym muzycznym świecie! \nBilety:  \nI pula do 30.09.2023 normalny 40\,00 zł / ulgowy 38\,00 zł \nII pula od 01.10.2023 normalny 45\,00 zł / ulgowy 40\,00 zł \n  \nBilety dostępne w serwisie KupBilecik \n  \n* Dzieci do lat 2 wstęp bezpłatny (dziecko na kolanach rodziców). \n* Bilet ulgowy przeznaczony jest dla dziecka od ukończenia 2 roku życia. \n* Bilet normalny przeznaczony jest dla opiekuna. \n* Dziecko z orzeczeniem o niepełnosprawności – wstęp bezpłatny / Przed zakupem biletów prosimy o kontakt z organizatorem (min. 7 dni przed wydarzeniem spoko.loko.muzyka@gmail.com) \n  \nCzas trwania: ok. 1h \n  \nMiejski Ośrodek Kultury w Zabrzu\, 3 Maja 91a \nOrganizator: Spoko Loko Katarzyna Zielińska
URL:https://pokladykultury.com.pl/event/spoko-loko-koncert-dla-dzieci/
LOCATION:Miejski Ośrodek Kultury w Zabrzu\, ul. 3 Maja 91a\, Zabrze\, śląskie\, 41-800\, Poland
ATTACH;FMTTYPE=image/jpeg:https://pokladykultury.com.pl/wp-content/uploads/2023/08/Spoko-Loko-koncert-dla-dzieci_baner_app_rgb.jpg
END:VEVENT
BEGIN:VEVENT
DTSTART;TZID=Europe/Warsaw:20231111T164500
DTEND;TZID=Europe/Warsaw:20231111T190000
DTSTAMP:20260419T161658
CREATED:20231106T101223Z
LAST-MODIFIED:20231106T101223Z
UID:9009-1699721100-1699729200@pokladykultury.com.pl
SUMMARY:Dzień św. Marcina w Rokitnicy
DESCRIPTION:Zapraszamy do wspólnego świętowania Dnia św. Marcina. To uroczystość ku czci patrona m.in. dzieci\, hotelarzy\, podróżników oraz ubogich\, która obchodzona jest 11 listopada.\n\n\n \nZbiórka o godz. 15.45 przy Przedszkolu nr 39 (plac od ul. Pobożnego). Następnie ulicami Rokitnicy przejdzie barwny korowód do Sanktuarium Szensztackiego.\n\n\n \nDla wszystkich dzieci przewidziano poczęstunek marcińskim rogalem oraz drobny upominek.
URL:https://pokladykultury.com.pl/event/dzien-sw-marcina-w-rokitnicy/
LOCATION:Przedszkole nr 39\, plac od ulicy Pobożnego\, Zabrze\, śląskie\, 41-800\, Poland
ATTACH;FMTTYPE=image/jpeg:https://pokladykultury.com.pl/wp-content/uploads/2023/11/Dzien-sw-Marcina.jpg
END:VEVENT
BEGIN:VEVENT
DTSTART;TZID=Europe/Warsaw:20231112T090000
DTEND;TZID=Europe/Warsaw:20231112T180000
DTSTAMP:20260419T161658
CREATED:20231110T074320Z
LAST-MODIFIED:20231110T074320Z
UID:9127-1699779600-1699812000@pokladykultury.com.pl
SUMMARY:Spacerem przez historię Rokitnicy - Wokół Kopalni Castellengo
DESCRIPTION:Rada Dzielnicy Rokitnicy zaprasza na Spacer przez historię Rokitnicy – ścieżką 2: górnictwo pn. Wokół Kopalni Castellengo. To już drugi spacer z historykiem (pierwszy odbył się 11 czerwca) po meandrach opowieści o górnictwie\, podczas którego nałożone zostaną dwie perspektywy.\n1️ – Za jedną\, naukową\, odpowiedzialny będzie nasz przewodnik\, historyk od wielu lat związany z dziejami górnictwa. Syn górnika z kopalni „Rokitnica”;\n2 – Do podzielenia się społeczną i tożsamościową perspektywą zapraszamy Was – uczestników spaceru\, górników z górniczych rodzin\, córki i synów górników\, wnuczki i wnuków górników\, mieszkańców Rokitnicy\, Helenki i Osiedla Młodego Górnika.\n \nPrzewodnik ścieżki górniczej:\nDamian Halmer – historyk\, muzealnik\, popularyzator. Absolwent Uniwersytetu Śląskiego w Katowicach na kierunku Historia. Autor lub współautor kilkudziesięciu tekstów naukowych i wydawnictw książkowych\, zajmuje się historią Górnego Śląska i dziejami śląskiego sportu. Współpracował z wieloma muzeami\, między innymi Muzeum Górnictwa Węglowego w Zabrzu\, Muzeum Miejski\, w Zabrzu\, Muzeum w Chorzowie\, Muzeum Zamek w Oświęcimiu.\n \nSpotykamy się o godzinie 11:00 na Osiedlu Młodego Górnika\, przy ul. Szybowej 2\, na przystanku autobusowym pod cechownią.\n \nPlan spaceru:\n1 – zabudowania kopalniane\n2 – kolonia Castellengo\n3 – stalowy dom\, albo to\, co ostatecznie powstało\n4 – kościół św. Barbary – najmłodsza zabrzańska parafia\n5 – osiedle Ratowników i dawna willa dyrektorska\n6 – miejsca związane z wydarzeniami w styczniu 1945\n7 – czarna droga (i powrót do Rokitnicy)\n\nUwaga:\nW przypadku chęci udziału osób ze szczególnymi potrzebami – wymagającymi wsparcia w zakresie różnego rodzaju sprawności\, prosimy o zgłoszenie tego faktu parę dni przed spacerem do Rady Dzielnicy (tel. 691 025 343 – Magdalena Gościniak\, bądź któremukolwiek z radnych RD)\, byśmy mogli tak przygotować zaplecze organizacyjne\, aby umożliwić uczestnictwo w maksymalnie możliwym komforcie.\nNa Osiedle Młodego Górnika docieramy indywidualnie. Jeśli są osoby chętne do przejścia tam Czarną Drogą\, to prosimy o kontakt 691 025 343\, pójdziemy we wspólnej grupie.\nW przypadku uniemożliwiających spacerowanie warunków pogodowych\, spacer może zostać przełożony na inny termin. Póki co\, prognoza nam sprzyja.\n\nProjekt jest realizowany przez Radę Dzielnicy Rokitnica. Środki finansowe przeznaczone na ten cel pochodzą z budżetu Rady Dzielnicy Rokitnica (Miasta Zabrze).
URL:https://pokladykultury.com.pl/event/spacerem-przez-historie-rokitnicy-wokol-kopalni-castellengo/
LOCATION:Zabrze – Rokitnica\, Zabrze\, śląskie\, 41-800\, Poland
ATTACH;FMTTYPE=image/jpeg:https://pokladykultury.com.pl/wp-content/uploads/2023/11/Spacerem-przez-historie-Rokitnicy.jpg
END:VEVENT
END:VCALENDAR