BEGIN:VCALENDAR
VERSION:2.0
PRODID:-//Pokładykultury.eu - ECPv5.16.3.1//NONSGML v1.0//EN
CALSCALE:GREGORIAN
METHOD:PUBLISH
X-WR-CALNAME:Pokładykultury.eu
X-ORIGINAL-URL:https://pokladykultury.com.pl
X-WR-CALDESC:Wydarzenia dla Pokładykultury.eu
REFRESH-INTERVAL;VALUE=DURATION:PT1H
X-Robots-Tag:noindex
X-PUBLISHED-TTL:PT1H
BEGIN:VTIMEZONE
TZID:Europe/Warsaw
BEGIN:DAYLIGHT
TZOFFSETFROM:+0100
TZOFFSETTO:+0200
TZNAME:CEST
DTSTART:20230326T010000
END:DAYLIGHT
BEGIN:STANDARD
TZOFFSETFROM:+0200
TZOFFSETTO:+0100
TZNAME:CET
DTSTART:20231029T010000
END:STANDARD
END:VTIMEZONE
BEGIN:VEVENT
DTSTART;TZID=Europe/Warsaw:20230610T110000
DTEND;TZID=Europe/Warsaw:20230610T190000
DTSTAMP:20260425T124335
CREATED:20230609T055803Z
LAST-MODIFIED:20230609T055803Z
UID:7797-1686394800-1686423600@pokladykultury.com.pl
SUMMARY:Kopernik na rowerze
DESCRIPTION:Rada Dzielnicy Osiedle Mikołaja Kopernika w Zabrzu zaprasza na drugi w tym roku rajd rowerowy „Kopernik na rowerze”. \n10 czerwca (sobota) o godz. 9.00 wybieramy się rowerami nad jezioro Dzierżno Duże. Tam Śląski Yacht Club zapewni nam pływanie na żaglówkach pod opieką wykwalifikowanej kadry. Przewiduje się ognisko z kiełbaskami oraz pieśniami żeglarskimi. Powrót do Zabrza we własnym zakresie ok. godz. 17. \nŻadnych opłat\, wszystko funduje Rada Dzielnicy Osiedle Mikołaja Kopernika w Zabrzu. \nZe względów bezpieczeństwa\, konieczne są zapisy. \nZgłaszamy się przez komentarz na stronie FB https://www.facebook.com/Kopernik.Zabrze. Zgłoszenie jest skuteczne po otrzymaniu potwierdzenia. 
URL:https://pokladykultury.com.pl/event/kopernik-na-rowerze-2/
LOCATION:Zabrze\, Zabrze\, śląskie\, 41-800\, Poland
ATTACH;FMTTYPE=image/jpeg:https://pokladykultury.com.pl/wp-content/uploads/2023/06/Kopernik-na-rowerze-10.06.jpg
END:VEVENT
BEGIN:VEVENT
DTSTART;TZID=Europe/Warsaw:20230610T170000
DTEND;TZID=Europe/Warsaw:20230610T220000
DTSTAMP:20260425T124335
CREATED:20230605T132220Z
LAST-MODIFIED:20230605T132220Z
UID:7777-1686416400-1686434400@pokladykultury.com.pl
SUMMARY:ROKITAFEST 2 - Misja: Dzień Dziecka
DESCRIPTION:Serdecznie zapraszamy na drugi festyn rodzinny z cyklu Rokitafest.\nTym razem motywem przewodnim jest Dzień Dziecka\, jednak moc atrakcji czeka na wszystkich uczestników\, bez względu na wiek.\n\nNa miejscu między innymi:\n Dmuchańce\n Animacje\n Konkursy z nagrodami\n Popcorn i wata cukrowa\n Lody\n Kiermasz rękodzieła\n Bogata strefa gastronomiczna\n Oprawa muzyczna do późnego wieczora.
URL:https://pokladykultury.com.pl/event/rokitafest-2-misja-dzien-dziecka/
LOCATION:Ogrodki Dzialkowe „Kaprys” Rokitnica\, ul. Krakowska 103\, Zabrze\, śląskie\, 41-800\, Poland
ATTACH;FMTTYPE=image/jpeg:https://pokladykultury.com.pl/wp-content/uploads/2023/06/Rokita-fest.jpg
END:VEVENT
END:VCALENDAR