BEGIN:VCALENDAR
VERSION:2.0
PRODID:-//Pokładykultury.eu - ECPv5.16.3.1//NONSGML v1.0//EN
CALSCALE:GREGORIAN
METHOD:PUBLISH
X-ORIGINAL-URL:https://pokladykultury.com.pl
X-WR-CALDESC:Wydarzenia dla Pokładykultury.eu
REFRESH-INTERVAL;VALUE=DURATION:PT1H
X-Robots-Tag:noindex
X-PUBLISHED-TTL:PT1H
BEGIN:VTIMEZONE
TZID:Europe/Warsaw
BEGIN:DAYLIGHT
TZOFFSETFROM:+0100
TZOFFSETTO:+0200
TZNAME:CEST
DTSTART:20220327T010000
END:DAYLIGHT
BEGIN:STANDARD
TZOFFSETFROM:+0200
TZOFFSETTO:+0100
TZNAME:CET
DTSTART:20221030T010000
END:STANDARD
END:VTIMEZONE
BEGIN:VEVENT
DTSTART;TZID=Europe/Warsaw:20221111T120000
DTEND;TZID=Europe/Warsaw:20221111T150000
DTSTAMP:20260423T123121
CREATED:20221021T100036Z
LAST-MODIFIED:20221021T100036Z
UID:5132-1668168000-1668178800@pokladykultury.com.pl
SUMMARY:Piknik Strzelecki
DESCRIPTION:Towarzystwo Sportowe TEMIDA zaprasza na tradycyjny Piknik Strzelecki w dniu Święta Niepodległości 11.11.2022 r. na Strzelnicę Temida-Energia Zabrze ul. Jodłowa.\n \nW programie zawody strzeleckie dla dzieci w wieku od 10 do 15 lat\, oraz strzelanie rekreacyjne dla wszystkich chętnych do…ostatniego naboju.\n \nStart imprezy godzina 11.00\, zakończenie godzina 14.00.
URL:https://pokladykultury.com.pl/event/piknik-strzelecki/
LOCATION:Strzelnica Temida-Energia Zabrze\, ul. Jodłowa 11\, Zabrze\, śląskie\, 41-800\, Poland
ATTACH;FMTTYPE=image/jpeg:https://pokladykultury.com.pl/wp-content/uploads/2022/10/Temida.jpg
END:VEVENT
END:VCALENDAR