BEGIN:VCALENDAR
VERSION:2.0
PRODID:-//Pokładykultury.eu - ECPv5.16.3.1//NONSGML v1.0//EN
CALSCALE:GREGORIAN
METHOD:PUBLISH
X-ORIGINAL-URL:https://pokladykultury.com.pl
X-WR-CALDESC:Wydarzenia dla Pokładykultury.eu
REFRESH-INTERVAL;VALUE=DURATION:PT1H
X-Robots-Tag:noindex
X-PUBLISHED-TTL:PT1H
BEGIN:VTIMEZONE
TZID:Europe/Warsaw
BEGIN:DAYLIGHT
TZOFFSETFROM:+0100
TZOFFSETTO:+0200
TZNAME:CEST
DTSTART:20220327T010000
END:DAYLIGHT
BEGIN:STANDARD
TZOFFSETFROM:+0200
TZOFFSETTO:+0100
TZNAME:CET
DTSTART:20221030T010000
END:STANDARD
END:VTIMEZONE
BEGIN:VEVENT
DTSTART;TZID=Europe/Warsaw:20220213T190000
DTEND;TZID=Europe/Warsaw:20220213T210000
DTSTAMP:20260423T010937
CREATED:20220207T114040Z
LAST-MODIFIED:20220207T114040Z
UID:2566-1644778800-1644786000@pokladykultury.com.pl
SUMMARY:Okno na Parlament
DESCRIPTION:Teatr Nowy w Zabrzu zaprasza na spektakl „Okno na Parlament„.\nPrzekład: Elżbieta Woźniak\nReżyseria: Marcin Sławiński\nScenografia i kostiumy: Anna Sekuła\nRuch sceniczny: Jacek Nowosielski\nInspicjent / sufler: Edyta Bicz\n„Okno na parlament” to lekka i niezwykle zabawna komedia pomyłek i fałszywych tożsamości\, w której precyzyjnie skonstruowana intryga i brawurowe tempo akcji\, ani na chwilę nie dają widzowi odetchnąć… Pewnego razu w luksusowym apartamencie londyńskiego hotelu minister brytyjskiego rządu i romansująca z nim sekretarka opozycji znajdują zwłoki… Chcąc uniknąć skandalu postanawiają zatuszować całą sprawę. Czy to się uda\, biorąc pod uwagę przeszkadzający im ciągle personel hotelu\, zazdrosnego męża i kilka innych osób\, w tym także samego nieboszczyka? Musicie się Państwo przekonać sami!!!\n \nSpektakl „Okno na parlament” zafunduje Państwu blisko dwie godziny nieustającego śmiechu!!! Tego nie można przegapić!!!\n \nobsada:\nJolanta Niestrój-Malisz – POKOJÓWKA\nJoanna Romaniak – PAMELA\nDorota Rusek-Binowska – JANE WORTHINGTON\nRenata Spinek – GLADYS\nGrzegorz Cinkowski – GEORGE PIGDEN\nAndrzej Kroczyński – KIEROWNIK\nRobert Lubawy – KELNER\nJakub Piwowarczyk – RONNIE\nZbigniew Stryj – RICHARD WILLEY\nMarian Wiśniewski – CIAŁO
URL:https://pokladykultury.com.pl/event/okno-na-parlament/
LOCATION:Teatr Nowy w Zabrzu\, Plac Teatralny 1\, Zabrze\, śląskie\, 41-800\, Poland
ATTACH;FMTTYPE=image/jpeg:https://pokladykultury.com.pl/wp-content/uploads/2022/02/Okno-na-parlament.jpg
END:VEVENT
BEGIN:VEVENT
DTSTART;TZID=Europe/Warsaw:20220214T200000
DTEND;TZID=Europe/Warsaw:20220214T220000
DTSTAMP:20260423T010937
CREATED:20220207T114434Z
LAST-MODIFIED:20220207T114434Z
UID:2569-1644868800-1644876000@pokladykultury.com.pl
SUMMARY:Okno na Parlament - Walentynki w Teatrze
DESCRIPTION:Teatr Nowy w Zabrzu zaprasza na spektakl „Okno na Parlament„.\nPrzekład: Elżbieta Woźniak\nReżyseria: Marcin Sławiński\nScenografia i kostiumy: Anna Sekuła\nRuch sceniczny: Jacek Nowosielski\nInspicjent / sufler: Edyta Bicz\n„Okno na parlament” to lekka i niezwykle zabawna komedia pomyłek i fałszywych tożsamości\, w której precyzyjnie skonstruowana intryga i brawurowe tempo akcji\, ani na chwilę nie dają widzowi odetchnąć… Pewnego razu w luksusowym apartamencie londyńskiego hotelu minister brytyjskiego rządu i romansująca z nim sekretarka opozycji znajdują zwłoki… Chcąc uniknąć skandalu postanawiają zatuszować całą sprawę. Czy to się uda\, biorąc pod uwagę przeszkadzający im ciągle personel hotelu\, zazdrosnego męża i kilka innych osób\, w tym także samego nieboszczyka? Musicie się Państwo przekonać sami!!!\n \nSpektakl „Okno na parlament” zafunduje Państwu blisko dwie godziny nieustającego śmiechu!!! Tego nie można przegapić!!!\n \nobsada:\nJolanta Niestrój-Malisz – POKOJÓWKA\nJoanna Romaniak – PAMELA\nDorota Rusek-Binowska – JANE WORTHINGTON\nRenata Spinek – GLADYS\nGrzegorz Cinkowski – GEORGE PIGDEN\nAndrzej Kroczyński – KIEROWNIK\nRobert Lubawy – KELNER\nJakub Piwowarczyk – RONNIE\nZbigniew Stryj – RICHARD WILLEY\nMarian Wiśniewski – CIAŁO
URL:https://pokladykultury.com.pl/event/okno-na-parlament-walentynki-w-teatrze/
LOCATION:Teatr Nowy w Zabrzu\, Plac Teatralny 1\, Zabrze\, śląskie\, 41-800\, Poland
ATTACH;FMTTYPE=image/jpeg:https://pokladykultury.com.pl/wp-content/uploads/2022/02/Okno-na-parlament.jpg
END:VEVENT
BEGIN:VEVENT
DTSTART;TZID=Europe/Warsaw:20220215T200000
DTEND;TZID=Europe/Warsaw:20220215T210000
DTSTAMP:20260423T010937
CREATED:20220215T123429Z
LAST-MODIFIED:20220215T123429Z
UID:2635-1644955200-1644958800@pokladykultury.com.pl
SUMMARY:Miniatury Teatralne - Teatr Nieoetykietkowani
DESCRIPTION:Kawiarnia Artystyczna zaprasza na występ młodszej grupy z Teatru Nieoetykietkowani. Młodzi artyści zaprezentują zestaw 3 etiud teatralnych. Podczas tego wydarzenia będzie można poznać młodych utalentowanych aktorów z Zabrza.\n \nO etiudach:\nPUŁAPKA IDEALIZMU\nPrzytłoczenie\, medialna presja bycia idealnym\, zagubienie się w rzeczywistości…Moment odwagi aby wykrzyczeć światu swoje uczucia. Dać wszystkim do zrozumienia\, że nie wszystko jest doskonałe i takie jak odbiera to świat. Próba uzewnętrznienia swoich emocji tłamszonych stanowczo za długo…\nReżyser: Piotr Orzechowski\nAutor tekstu: Jonasz Kofta\nWystępuje: Magdalena Cebula\n \nPUSTKA\nMiłość.\nTy i ja.\nJa i Ty\nKiedy doceniam to co między nami najważniejsze? Kiedy zdaję sobie sprawę ile znaczy dla mnie druga osoba….ktoś kto bezwarunkowo kocha….\nReżyser: Anna Siedlecka\nAutor tekstu: Wisława Szymborska\nWystępuje: Michał Szymański\, Olivia Wywrót\n \nNIEZAPOMINAJKA\nStrach. Gniew. Rozpacz. Zakochana dziewczyna\, tkwiąca w toksycznej relacji. Czy jest dla niej szansa na lepsze jutro? Nadzieja?\nReżyser: Michał Szymański\nAutor tekstu: Andrzej Bursa\nWystępuje: Anna Siedlecka\n \nMiniatury teatralne realizuje młodzież z grup teatralnych z Opp3 pod kierunkiem Małgorzaty Baryły.\nRezerwacja stolików pod nr tel. 534 148 555. 
URL:https://pokladykultury.com.pl/event/miniatury-teatralne-teatr-nieoetykietkowani/
LOCATION:Artystyczna Zabrze\, ul. gen de Gaulle'a 17\, Zabrze\, śląskie\, 41-800\, Poland
ATTACH;FMTTYPE=image/png:https://pokladykultury.com.pl/wp-content/uploads/2021/08/Artystyczna-miejsce.png
END:VEVENT
END:VCALENDAR