BEGIN:VCALENDAR
VERSION:2.0
PRODID:-//Pokładykultury.eu - ECPv5.16.3.1//NONSGML v1.0//EN
CALSCALE:GREGORIAN
METHOD:PUBLISH
X-WR-CALNAME:Pokładykultury.eu
X-ORIGINAL-URL:https://pokladykultury.com.pl
X-WR-CALDESC:Wydarzenia dla Pokładykultury.eu
REFRESH-INTERVAL;VALUE=DURATION:PT1H
X-Robots-Tag:noindex
X-PUBLISHED-TTL:PT1H
BEGIN:VTIMEZONE
TZID:Europe/Warsaw
BEGIN:DAYLIGHT
TZOFFSETFROM:+0100
TZOFFSETTO:+0200
TZNAME:CEST
DTSTART:20220327T010000
END:DAYLIGHT
BEGIN:STANDARD
TZOFFSETFROM:+0200
TZOFFSETTO:+0100
TZNAME:CET
DTSTART:20221030T010000
END:STANDARD
END:VTIMEZONE
BEGIN:VEVENT
DTSTART;TZID=Europe/Warsaw:20220113T190000
DTEND;TZID=Europe/Warsaw:20220113T200000
DTSTAMP:20260422T234725
CREATED:20211229T095051Z
LAST-MODIFIED:20211229T095051Z
UID:2243-1642100400-1642104000@pokladykultury.com.pl
SUMMARY:Graj dudka\, graj!
DESCRIPTION:Teatr Nowy w Zabrzu zaprasza na wspólne kolędowanie.\n \nW czwartek\, 13 stycznia o godzinie 18:00 zapraszamy na dużą scenę\, gdzie wspólnie z Przyjaciółmi Teatru Nowego w Zabrzu i aktorami będziemy rozmawiać o świętach\, zwyczajach i razem pośpiewamy.\n \nWstęp wolny\, ilość miejsc mocno ograniczona — obowiązuje rezerwacja pod numerem 609 621 460.
URL:https://pokladykultury.com.pl/event/graj-dudka-graj/
LOCATION:Teatr Nowy w Zabrzu\, Plac Teatralny 1\, Zabrze\, śląskie\, 41-800\, Poland
ATTACH;FMTTYPE=image/jpeg:https://pokladykultury.com.pl/wp-content/uploads/2021/12/Graj-dudka.jpg
END:VEVENT
END:VCALENDAR