BEGIN:VCALENDAR
VERSION:2.0
PRODID:-//Pokładykultury.eu - ECPv5.16.3.1//NONSGML v1.0//EN
CALSCALE:GREGORIAN
METHOD:PUBLISH
X-WR-CALNAME:Pokładykultury.eu
X-ORIGINAL-URL:https://pokladykultury.com.pl
X-WR-CALDESC:Wydarzenia dla Pokładykultury.eu
REFRESH-INTERVAL;VALUE=DURATION:PT1H
X-Robots-Tag:noindex
X-PUBLISHED-TTL:PT1H
BEGIN:VTIMEZONE
TZID:Europe/Warsaw
BEGIN:DAYLIGHT
TZOFFSETFROM:+0100
TZOFFSETTO:+0200
TZNAME:CEST
DTSTART:20220327T010000
END:DAYLIGHT
BEGIN:STANDARD
TZOFFSETFROM:+0200
TZOFFSETTO:+0100
TZNAME:CET
DTSTART:20221030T010000
END:STANDARD
END:VTIMEZONE
BEGIN:VEVENT
DTSTART;TZID=Europe/Warsaw:20220214T200000
DTEND;TZID=Europe/Warsaw:20220214T220000
DTSTAMP:20260422T234726
CREATED:20220207T114434Z
LAST-MODIFIED:20220207T114434Z
UID:2569-1644868800-1644876000@pokladykultury.com.pl
SUMMARY:Okno na Parlament - Walentynki w Teatrze
DESCRIPTION:Teatr Nowy w Zabrzu zaprasza na spektakl „Okno na Parlament„.\nPrzekład: Elżbieta Woźniak\nReżyseria: Marcin Sławiński\nScenografia i kostiumy: Anna Sekuła\nRuch sceniczny: Jacek Nowosielski\nInspicjent / sufler: Edyta Bicz\n„Okno na parlament” to lekka i niezwykle zabawna komedia pomyłek i fałszywych tożsamości\, w której precyzyjnie skonstruowana intryga i brawurowe tempo akcji\, ani na chwilę nie dają widzowi odetchnąć… Pewnego razu w luksusowym apartamencie londyńskiego hotelu minister brytyjskiego rządu i romansująca z nim sekretarka opozycji znajdują zwłoki… Chcąc uniknąć skandalu postanawiają zatuszować całą sprawę. Czy to się uda\, biorąc pod uwagę przeszkadzający im ciągle personel hotelu\, zazdrosnego męża i kilka innych osób\, w tym także samego nieboszczyka? Musicie się Państwo przekonać sami!!!\n \nSpektakl „Okno na parlament” zafunduje Państwu blisko dwie godziny nieustającego śmiechu!!! Tego nie można przegapić!!!\n \nobsada:\nJolanta Niestrój-Malisz – POKOJÓWKA\nJoanna Romaniak – PAMELA\nDorota Rusek-Binowska – JANE WORTHINGTON\nRenata Spinek – GLADYS\nGrzegorz Cinkowski – GEORGE PIGDEN\nAndrzej Kroczyński – KIEROWNIK\nRobert Lubawy – KELNER\nJakub Piwowarczyk – RONNIE\nZbigniew Stryj – RICHARD WILLEY\nMarian Wiśniewski – CIAŁO
URL:https://pokladykultury.com.pl/event/okno-na-parlament-walentynki-w-teatrze/
LOCATION:Teatr Nowy w Zabrzu\, Plac Teatralny 1\, Zabrze\, śląskie\, 41-800\, Poland
ATTACH;FMTTYPE=image/jpeg:https://pokladykultury.com.pl/wp-content/uploads/2022/02/Okno-na-parlament.jpg
END:VEVENT
END:VCALENDAR