BEGIN:VCALENDAR
VERSION:2.0
PRODID:-//Pokładykultury.eu - ECPv5.16.3.1//NONSGML v1.0//EN
CALSCALE:GREGORIAN
METHOD:PUBLISH
X-ORIGINAL-URL:https://pokladykultury.com.pl
X-WR-CALDESC:Wydarzenia dla Pokładykultury.eu
REFRESH-INTERVAL;VALUE=DURATION:PT1H
X-Robots-Tag:noindex
X-PUBLISHED-TTL:PT1H
BEGIN:VTIMEZONE
TZID:Europe/Warsaw
BEGIN:DAYLIGHT
TZOFFSETFROM:+0100
TZOFFSETTO:+0200
TZNAME:CEST
DTSTART:20220327T010000
END:DAYLIGHT
BEGIN:STANDARD
TZOFFSETFROM:+0200
TZOFFSETTO:+0100
TZNAME:CET
DTSTART:20221030T010000
END:STANDARD
END:VTIMEZONE
BEGIN:VEVENT
DTSTART;TZID=Europe/Warsaw:20220413T210000
DTEND;TZID=Europe/Warsaw:20220413T230000
DTSTAMP:20260423T085538
CREATED:20220411T062925Z
LAST-MODIFIED:20220411T062925Z
UID:3190-1649883600-1649890800@pokladykultury.com.pl
SUMMARY:Teatr Off-Road ze spekatklem "ICH 4"
DESCRIPTION:Teatr Off-Road\, przy współpracy z Teatrem Nieoetykietkowani\, zagości w Oficynie ze spektaklem „ICH CZWORO” Tragedia ludzi głupich w trzech aktach Gabrieli Zapolskiej!\n \nReżyseria: Małgorzata Baryła;\nZespół: Anna Braun\, Maciej Nowobilski\, Wiktoria Frąckowiak\, Arkadiusz Nadarzewski\, Julia Krzywicka\, Sandra Zowada;\nOpracowanie muzyczne: Maria Rorot;\nProjekt plakatu: Tatiana Rusek.\n \n„Wracasz wspomnieniami do dzieciństwa. Analizujesz swoją drogę do dnia dzisiejszego. Jak wiele osób i czynów miało wpływ na miejsce\, w którym się aktualnie znajdujesz?”.\n \n„Temat bardzo aktualny\, bo nie ważne ile ma się lat jeśli w grę wchodzą emocje to rozum jest odsuwany na drugi plan”.\n \n„Chyba moją motywacją jest zmiana ludzi\, zauważanie tej głupoty i zmiana swojego życia na lepsze\, zaczynając nie od drugiego człowieka\, ale od siebie samego”.\n \nBilety: 15 zł\, do zakupu w Oficynie.\n \nWydarzenie będzie fotografowane.
URL:https://pokladykultury.com.pl/event/teatr-off-road-ze-spekatklem-ich-4/
LOCATION:Pub Oficyna\, ul. Wolności 211 a\, Zabrze\, śląskie\, 41-800\, Poland
ATTACH;FMTTYPE=image/jpeg:https://pokladykultury.com.pl/wp-content/uploads/2022/04/Ich-4.jpg
END:VEVENT
END:VCALENDAR