BEGIN:VCALENDAR
VERSION:2.0
PRODID:-//Pokładykultury.eu - ECPv5.16.3.1//NONSGML v1.0//EN
CALSCALE:GREGORIAN
METHOD:PUBLISH
X-ORIGINAL-URL:https://pokladykultury.com.pl
X-WR-CALDESC:Wydarzenia dla Pokładykultury.eu
REFRESH-INTERVAL;VALUE=DURATION:PT1H
X-Robots-Tag:noindex
X-PUBLISHED-TTL:PT1H
BEGIN:VTIMEZONE
TZID:Europe/Warsaw
BEGIN:DAYLIGHT
TZOFFSETFROM:+0100
TZOFFSETTO:+0200
TZNAME:CEST
DTSTART:20220327T010000
END:DAYLIGHT
BEGIN:STANDARD
TZOFFSETFROM:+0200
TZOFFSETTO:+0100
TZNAME:CET
DTSTART:20221030T010000
END:STANDARD
END:VTIMEZONE
BEGIN:VEVENT
DTSTART;TZID=Europe/Warsaw:20221202T180000
DTEND;TZID=Europe/Warsaw:20221202T200000
DTSTAMP:20260420T061900
CREATED:20221117T071555Z
LAST-MODIFIED:20221117T115256Z
UID:5588-1670004000-1670011200@pokladykultury.com.pl
SUMMARY:100 portretów na 100 lat Zabrza
DESCRIPTION:Dzielnicowy Ośrodek Kultury w Biskupicach zaprasza na wernisaż wystawy „100 portretów na 100 lat Zabrza” prezentującą portrety mieszkańców Zabrza. Wernisaż odbędzie się w piątek\, 2 grudnia o godz. 17.00 w Dzielnicowym Ośrodku Kultury w Biskupicach. \n  \n„100 portretów na 100 lecie Zabrza” to projekt społeczny realizowany przez Dzielnicowy Ośrodek Kultury w Biskupicach. Celem projektu było sportretowanie 100 mieszkańców Zabrza. Projekt w całości realizowany jest przez Martę Grochowską\, autorkę i pomysłodawczynię projektu\, przy współpracy z młodzieżą uczestniczącą w zajęciach koła Foto-Art\, które od marca działa na DOK. \n„Spotykam zwykłych mieszkańców i tworzę im niezwykłe portrety.”– Marta Grochowska\, autorka projektu. \nHonorowy patronat nad wydarzeniem objęła prezydent Zabrza Małgorzata Mańka-Szulik. \nwww.100latzabrza.pl \n 
URL:https://pokladykultury.com.pl/event/100-portretow-na-100-lat-zabrza/
LOCATION:Dzielnicowy Ośrodek Kultury Biskupice\, ul. W. Kossaka 23\, Zabrze\, śląskie\, 41-800\, Poland
ATTACH;FMTTYPE=image/jpeg:https://pokladykultury.com.pl/wp-content/uploads/2022/11/100-na-1002-pop-scaled.jpg
END:VEVENT
BEGIN:VEVENT
DTSTART;TZID=Europe/Warsaw:20221221T180000
DTEND;TZID=Europe/Warsaw:20221221T200000
DTSTAMP:20260420T061900
CREATED:20221219T062402Z
LAST-MODIFIED:20221219T062402Z
UID:6159-1671645600-1671652800@pokladykultury.com.pl
SUMMARY:Wernisaż wystawy "Szykowna Pani Elegancki Pan"
DESCRIPTION:W przedświąteczną środę Muzeum Miejskie w Zabrzu zaprasza na wernisaż wystawy „Szykowna Pani Elegancki Pan”.\n \nNa wystawie zaprezentowane zostaną stroje\, które w latach 30. XX wieku spotkalibyśmy nie tylko na spacerze w parku\, ale także w trakcie wakacji spędzonych w nadmorskim kurorcie czy podczas wytwornego balu. Ekspozycja zapozna nas z najbardziej charakterystycznymi cechami ówczesnych ubiorów\, takich jak ich długość\, krój czy wykorzystane do uszycia materiały\, podkreślając to\, co odróżnia je od innych okresów historycznych.\n \nKażda przygotowana sylwetka stanowi kompletną prezentację\, w której wszelkie detale: od wyboru poszczególnych elementów ubrania\, poprzez obuwie i dodatki przeniosą odwiedzających klimatem do trzeciej dekady XX wieku.
URL:https://pokladykultury.com.pl/event/wernisaz-wystawy-szykowna-pani-elegancki-pan/
LOCATION:Muzeum Miejskie w Zabrzu\, ul. Powstańców Śląskich 3\, Zabrze\, śląskie\, 41-800\, Poland
ATTACH;FMTTYPE=image/jpeg:https://pokladykultury.com.pl/wp-content/uploads/2022/12/Szykowna-Pani.jpg
END:VEVENT
END:VCALENDAR