BEGIN:VCALENDAR
VERSION:2.0
PRODID:-//Pokładykultury.eu - ECPv5.16.3.1//NONSGML v1.0//EN
CALSCALE:GREGORIAN
METHOD:PUBLISH
X-WR-CALNAME:Pokładykultury.eu
X-ORIGINAL-URL:https://pokladykultury.com.pl
X-WR-CALDESC:Wydarzenia dla Pokładykultury.eu
REFRESH-INTERVAL;VALUE=DURATION:PT1H
X-Robots-Tag:noindex
X-PUBLISHED-TTL:PT1H
BEGIN:VTIMEZONE
TZID:Europe/Warsaw
BEGIN:DAYLIGHT
TZOFFSETFROM:+0100
TZOFFSETTO:+0200
TZNAME:CEST
DTSTART:20230326T010000
END:DAYLIGHT
BEGIN:STANDARD
TZOFFSETFROM:+0200
TZOFFSETTO:+0100
TZNAME:CET
DTSTART:20231029T010000
END:STANDARD
END:VTIMEZONE
BEGIN:VEVENT
DTSTART;TZID=Europe/Warsaw:20231117T183000
DTEND;TZID=Europe/Warsaw:20231117T203000
DTSTAMP:20260420T064906
CREATED:20231114T092034Z
LAST-MODIFIED:20231114T092034Z
UID:9177-1700245800-1700253000@pokladykultury.com.pl
SUMMARY:Spotkanie z eko-filmem
DESCRIPTION:Kino Roma zaprasza w piątek\, 17 listopada na spotkanie z eko-filmem. Wydarzenie rozpocznie się o godzinie 17.30. \nZgromadzeni wysłuchają wykładu na temat: „O fascynującym pozaludzkim świecie”\, następnie zobaczą film „Gunda”. \nOrganizatorami są: Klub Myśli Ekologicznej\, Górnośląsko-Zagłębiowska Metropolia\, Uniwersytet Śląski w Katowicach i kino „Roma” w Zabrzu. \nWstęp bezpłatny. \nSpotkanie prowadzą:\n– prof. Piotr Skubała (Wydział Nauk Przyrodniczych\, Uniwersytet Śląski\, ekolog\, akarolog\, etyk środowiskowy\, edukator ekologiczny\, działacz na rzecz ochrony przyrody\, aktywista klimatyczny)\n– dr Ryszard Kulik (Pracownia na rzecz Wszystkich Istot\, psycholog\, aktywista ekologiczny\, trener treningu psychologicznego\, ekofilozof skoncentrowany na głębokiej ekologii\, autor książek i artykułów poświęconych relacji człowiek – przyroda). \nOpis filmu: Dokument przedstawia codzienność zwierząt mieszkających na farmie: świni Gundy oraz jej towarzyszy – dwóch krów i jednonogiej kury. Gunda przekracza bariery oddzielające nas od innych gatunków\, jest głębokim duchowym doświadczeniem\, medytacją o egzystencji. \nKlub Myśli Ekologicznej jest inicjatywą\, która ma na celu propagowanie idei ekologicznych oraz prezentowanie osób wcielających te idee w życie. Klub proponuje spotkania z naukowcami\, aktywistami\nekologicznymi\, działaczami społecznymi\, dla których zmiana świata na lepsze jest ważnym motywem działań. Chcą inspirować\, zachęcać do aktywności\, wspierać oddolne inicjatywy oraz budować krąg osób\, angażujących się w pracę dla przyrody i człowieka. Spotkania Klubu odbywają się raz w miesiącu.
URL:https://pokladykultury.com.pl/event/spotkanie-z-eko-filmem/
LOCATION:Kino Roma\, ul. Z. Padlewskiego 4\, Zabrze\, śląskie\, 41-800\, Poland
ATTACH;FMTTYPE=image/png:https://pokladykultury.com.pl/wp-content/uploads/2023/11/O-fascynujacym-swiecie.png
END:VEVENT
END:VCALENDAR